BEGIN:VCALENDAR
VERSION:2.0
PRODID:-//Deutsche Gesellschaft für Traditionelle Chinesische Medizin e.V. - ECPv6.8.1//NONSGML v1.0//EN
CALSCALE:GREGORIAN
METHOD:PUBLISH
X-ORIGINAL-URL:https://dgtcm.de
X-WR-CALDESC:Events for Deutsche Gesellschaft für Traditionelle Chinesische Medizin e.V.
REFRESH-INTERVAL;VALUE=DURATION:PT1H
X-Robots-Tag:noindex
X-PUBLISHED-TTL:PT1H
BEGIN:VTIMEZONE
TZID:Europe/Berlin
BEGIN:DAYLIGHT
TZOFFSETFROM:+0100
TZOFFSETTO:+0200
TZNAME:CEST
DTSTART:20230326T010000
END:DAYLIGHT
BEGIN:STANDARD
TZOFFSETFROM:+0200
TZOFFSETTO:+0100
TZNAME:CET
DTSTART:20231029T010000
END:STANDARD
END:VTIMEZONE
BEGIN:VEVENT
DTSTART;TZID=Europe/Berlin:20231021T110000
DTEND;TZID=Europe/Berlin:20231022T200000
DTSTAMP:20260425T050509
CREATED:20230809T132149Z
LAST-MODIFIED:20230809T143009Z
UID:620-1697886000-1698004800@dgtcm.de
SUMMARY:Live Anamnese V
DESCRIPTION:Praktische Akupunkturbehandlung &#8211; Fallseminar 5 von 5 (Modul VI + VII)
URL:https://dgtcm.de/event/live-anamnese-iv-2/
LOCATION:Gartensaal\, Karlsruher Straße 12\, Heidelberg\, Baden-Württemberg\, 69126\, Deutschland
CATEGORIES:Live Anamnese
ATTACH;FMTTYPE=image/webp:https://dgtcm.de/wp-content/uploads/2023/08/Live-Anamnese_001-scaled.webp
ORGANIZER;CN="Deutsche Gesellschaft f%C3%BCr Traditionelle Chinesische Medizin e.V.":MAILTO:info@dgtcm.de
END:VEVENT
BEGIN:VEVENT
DTSTART;TZID=Europe/Berlin:20231021T110000
DTEND;TZID=Europe/Berlin:20231022T200000
DTSTAMP:20260425T050509
CREATED:20230809T140443Z
LAST-MODIFIED:20230809T143308Z
UID:646-1697886000-1698004800@dgtcm.de
SUMMARY:Qigong Kompetenztraining 2
DESCRIPTION:Qigong Kompetenztraining 2
URL:https://dgtcm.de/event/qigong-iv-7/
LOCATION:Gartensaal\, Karlsruher Straße 12\, Heidelberg\, Baden-Württemberg\, 69126\, Deutschland
CATEGORIES:Qi-Gong
ATTACH;FMTTYPE=image/webp:https://dgtcm.de/wp-content/uploads/2023/08/QiGong_004-scaled.webp
ORGANIZER;CN="Deutsche Gesellschaft f%C3%BCr Traditionelle Chinesische Medizin e.V.":MAILTO:info@dgtcm.de
END:VEVENT
END:VCALENDAR