BEGIN:VCALENDAR
VERSION:2.0
PRODID:-//Deutsche Gesellschaft für Traditionelle Chinesische Medizin e.V. - ECPv6.8.1//NONSGML v1.0//EN
CALSCALE:GREGORIAN
METHOD:PUBLISH
X-ORIGINAL-URL:https://dgtcm.de
X-WR-CALDESC:Events for Deutsche Gesellschaft für Traditionelle Chinesische Medizin e.V.
REFRESH-INTERVAL;VALUE=DURATION:PT1H
X-Robots-Tag:noindex
X-PUBLISHED-TTL:PT1H
BEGIN:VTIMEZONE
TZID:Europe/Berlin
BEGIN:DAYLIGHT
TZOFFSETFROM:+0100
TZOFFSETTO:+0200
TZNAME:CEST
DTSTART:20230326T010000
END:DAYLIGHT
BEGIN:STANDARD
TZOFFSETFROM:+0200
TZOFFSETTO:+0100
TZNAME:CET
DTSTART:20231029T010000
END:STANDARD
END:VTIMEZONE
BEGIN:VEVENT
DTSTART;TZID=Europe/Berlin:20231201T100000
DTEND;TZID=Europe/Berlin:20231201T190000
DTSTAMP:20260420T001136
CREATED:20230809T140902Z
LAST-MODIFIED:20230809T141237Z
UID:654-1701424800-1701457200@dgtcm.de
SUMMARY:Diätetik für Familien - Teil 3
DESCRIPTION:Diätetik 3
URL:https://dgtcm.de/event/diaetetik-fuer-familien-teil-1diaetetik-1/
LOCATION:Gartensaal\, Karlsruher Straße 12\, Heidelberg\, Baden-Württemberg\, 69126\, Deutschland
CATEGORIES:Diätetik
ATTACH;FMTTYPE=image/webp:https://dgtcm.de/wp-content/uploads/2023/08/Depositphotos_70859787_XL.webp
ORGANIZER;CN="Deutsche Gesellschaft f%C3%BCr Traditionelle Chinesische Medizin e.V.":MAILTO:info@dgtcm.de
END:VEVENT
BEGIN:VEVENT
DTSTART;TZID=Europe/Berlin:20231117T100000
DTEND;TZID=Europe/Berlin:20231117T190000
DTSTAMP:20260420T001136
CREATED:20230809T140820Z
LAST-MODIFIED:20230809T141216Z
UID:652-1700215200-1700247600@dgtcm.de
SUMMARY:Diätetik für Familien - Teil 2
DESCRIPTION:Diätetik 3
URL:https://dgtcm.de/event/diaetetik-fuer-familien-teil-1diaetetik-1-2/
LOCATION:Gartensaal\, Karlsruher Straße 12\, Heidelberg\, Baden-Württemberg\, 69126\, Deutschland
CATEGORIES:Diätetik
ATTACH;FMTTYPE=image/webp:https://dgtcm.de/wp-content/uploads/2023/08/Depositphotos_70859787_XL.webp
ORGANIZER;CN="Deutsche Gesellschaft f%C3%BCr Traditionelle Chinesische Medizin e.V.":MAILTO:info@dgtcm.de
END:VEVENT
BEGIN:VEVENT
DTSTART;TZID=Europe/Berlin:20231103T100000
DTEND;TZID=Europe/Berlin:20231103T190000
DTSTAMP:20260420T001136
CREATED:20230809T140730Z
LAST-MODIFIED:20230809T154925Z
UID:650-1699005600-1699038000@dgtcm.de
SUMMARY:Diätetik für Familien - Teil 1
DESCRIPTION:Diätetik 3
URL:https://dgtcm.de/event/diaetetik-fuer-familien-teil-1diaetetik-1-3/
LOCATION:Gartensaal\, Karlsruher Straße 12\, Heidelberg\, Baden-Württemberg\, 69126\, Deutschland
CATEGORIES:Diätetik
ATTACH;FMTTYPE=image/webp:https://dgtcm.de/wp-content/uploads/2023/08/Depositphotos_70859787_XL.webp
ORGANIZER;CN="Deutsche Gesellschaft f%C3%BCr Traditionelle Chinesische Medizin e.V.":MAILTO:info@dgtcm.de
END:VEVENT
END:VCALENDAR