BEGIN:VCALENDAR
VERSION:2.0
PRODID:-//Deutsche Gesellschaft für Traditionelle Chinesische Medizin e.V. - ECPv6.8.1//NONSGML v1.0//EN
CALSCALE:GREGORIAN
METHOD:PUBLISH
X-WR-CALNAME:Deutsche Gesellschaft für Traditionelle Chinesische Medizin e.V.
X-ORIGINAL-URL:https://dgtcm.de
X-WR-CALDESC:Events for Deutsche Gesellschaft für Traditionelle Chinesische Medizin e.V.
REFRESH-INTERVAL;VALUE=DURATION:PT1H
X-Robots-Tag:noindex
X-PUBLISHED-TTL:PT1H
BEGIN:VTIMEZONE
TZID:Europe/Berlin
BEGIN:DAYLIGHT
TZOFFSETFROM:+0100
TZOFFSETTO:+0200
TZNAME:CEST
DTSTART:20230326T010000
END:DAYLIGHT
BEGIN:STANDARD
TZOFFSETFROM:+0200
TZOFFSETTO:+0100
TZNAME:CET
DTSTART:20231029T010000
END:STANDARD
END:VTIMEZONE
BEGIN:VEVENT
DTSTART;TZID=Europe/Berlin:20230929T090000
DTEND;TZID=Europe/Berlin:20231003T180000
DTSTAMP:20260424T215649
CREATED:20230809T125546Z
LAST-MODIFIED:20230809T133913Z
UID:605-1695978000-1696356000@dgtcm.de
SUMMARY:TCM-Intensivekurs Basic- und Advanced-Level - Blockkurs
DESCRIPTION:Blockkurs (40 UE) \n&#8230;enthält die Module I &#8211; III des Muster-Curriculums der Ärztekammer (72 UE)
URL:https://dgtcm.de/event/tcm-intensivekurs-basic-und-advanced-level-blockkurs/
LOCATION:Gartensaal\, Karlsruher Straße 12\, Heidelberg\, Baden-Württemberg\, 69126\, Deutschland
CATEGORIES:TCM-Intensiv Basic- und Advanced-Level
ATTACH;FMTTYPE=image/webp:https://dgtcm.de/wp-content/uploads/2023/07/chinese_landscape-scaled.webp
ORGANIZER;CN="Deutsche Gesellschaft f%C3%BCr Traditionelle Chinesische Medizin e.V.":MAILTO:info@dgtcm.de
END:VEVENT
BEGIN:VEVENT
DTSTART;TZID=Europe/Berlin:20231007T090000
DTEND;TZID=Europe/Berlin:20231008T180000
DTSTAMP:20260424T215649
CREATED:20230809T131129Z
LAST-MODIFIED:20230809T133741Z
UID:614-1696669200-1696788000@dgtcm.de
SUMMARY:TCM-Intensivekurs Basic- und Advanced-Level - Wochenende 1 (16 UE)
DESCRIPTION:Wochenende 1 (16 UE) \n&#8230;enthält die Module I &#8211; III des Muster-Curriculums der Ärztekammer (72 UE)
URL:https://dgtcm.de/event/tcm-intensivekurs-basic-und-advanced-level-blockkurs-2/
LOCATION:Gartensaal\, Karlsruher Straße 12\, Heidelberg\, Baden-Württemberg\, 69126\, Deutschland
CATEGORIES:TCM-Intensiv Basic- und Advanced-Level
ATTACH;FMTTYPE=image/webp:https://dgtcm.de/wp-content/uploads/2023/07/chinese_landscape-scaled.webp
ORGANIZER;CN="Deutsche Gesellschaft f%C3%BCr Traditionelle Chinesische Medizin e.V.":MAILTO:info@dgtcm.de
END:VEVENT
BEGIN:VEVENT
DTSTART;TZID=Europe/Berlin:20231014T090000
DTEND;TZID=Europe/Berlin:20231015T180000
DTSTAMP:20260424T215649
CREATED:20230809T131717Z
LAST-MODIFIED:20230809T133821Z
UID:616-1697274000-1697392800@dgtcm.de
SUMMARY:TCM-Intensivekurs Basic- und Advanced-Level - Wochenende 2 (16 UE)
DESCRIPTION:Wochenende 2 (16 UE) \n&#8230;enthält die Module I &#8211; III des Muster-Curriculums der Ärztekammer (72 UE)
URL:https://dgtcm.de/event/tcm-intensivekurs-basic-und-advanced-level-blockkurs-2-2/
LOCATION:Gartensaal\, Karlsruher Straße 12\, Heidelberg\, Baden-Württemberg\, 69126\, Deutschland
CATEGORIES:TCM-Intensiv Basic- und Advanced-Level
ATTACH;FMTTYPE=image/webp:https://dgtcm.de/wp-content/uploads/2023/07/chinese_landscape-scaled.webp
ORGANIZER;CN="Deutsche Gesellschaft f%C3%BCr Traditionelle Chinesische Medizin e.V.":MAILTO:info@dgtcm.de
END:VEVENT
BEGIN:VEVENT
DTSTART;TZID=Europe/Berlin:20231021T110000
DTEND;TZID=Europe/Berlin:20231022T200000
DTSTAMP:20260424T215649
CREATED:20230809T132149Z
LAST-MODIFIED:20230809T143009Z
UID:620-1697886000-1698004800@dgtcm.de
SUMMARY:Live Anamnese V
DESCRIPTION:Praktische Akupunkturbehandlung &#8211; Fallseminar 5 von 5 (Modul VI + VII)
URL:https://dgtcm.de/event/live-anamnese-iv-2/
LOCATION:Gartensaal\, Karlsruher Straße 12\, Heidelberg\, Baden-Württemberg\, 69126\, Deutschland
CATEGORIES:Live Anamnese
ATTACH;FMTTYPE=image/webp:https://dgtcm.de/wp-content/uploads/2023/08/Live-Anamnese_001-scaled.webp
ORGANIZER;CN="Deutsche Gesellschaft f%C3%BCr Traditionelle Chinesische Medizin e.V.":MAILTO:info@dgtcm.de
END:VEVENT
BEGIN:VEVENT
DTSTART;TZID=Europe/Berlin:20231021T110000
DTEND;TZID=Europe/Berlin:20231022T200000
DTSTAMP:20260424T215649
CREATED:20230809T140443Z
LAST-MODIFIED:20230809T143308Z
UID:646-1697886000-1698004800@dgtcm.de
SUMMARY:Qigong Kompetenztraining 2
DESCRIPTION:Qigong Kompetenztraining 2
URL:https://dgtcm.de/event/qigong-iv-7/
LOCATION:Gartensaal\, Karlsruher Straße 12\, Heidelberg\, Baden-Württemberg\, 69126\, Deutschland
CATEGORIES:Qi-Gong
ATTACH;FMTTYPE=image/webp:https://dgtcm.de/wp-content/uploads/2023/08/QiGong_004-scaled.webp
ORGANIZER;CN="Deutsche Gesellschaft f%C3%BCr Traditionelle Chinesische Medizin e.V.":MAILTO:info@dgtcm.de
END:VEVENT
BEGIN:VEVENT
DTSTART;TZID=Europe/Berlin:20231027T110000
DTEND;TZID=Europe/Berlin:20231029T190000
DTSTAMP:20260424T215649
CREATED:20230809T132835Z
LAST-MODIFIED:20230809T142532Z
UID:626-1698404400-1698606000@dgtcm.de
SUMMARY:CMT V *)
DESCRIPTION:Rheuma und die Top 10 der Chinesischen Manuellen Therapie (plus \nvorgeschalteter vierstündiger kostenloser Einführungskurs) \n*) Möglichkeit des Quereinstiegs
URL:https://dgtcm.de/event/live-anamnese-iv-5/
LOCATION:Gartensaal\, Karlsruher Straße 12\, Heidelberg\, Baden-Württemberg\, 69126\, Deutschland
CATEGORIES:Chinesische Manuelle Therapie
ATTACH;FMTTYPE=image/webp:https://dgtcm.de/wp-content/uploads/2023/08/Chinesische-Manuelle-Therapie_003-scaled.webp
ORGANIZER;CN="Deutsche Gesellschaft f%C3%BCr Traditionelle Chinesische Medizin e.V.":MAILTO:info@dgtcm.de
END:VEVENT
END:VCALENDAR