BEGIN:VCALENDAR
VERSION:2.0
PRODID:-//Deutsche Gesellschaft für Traditionelle Chinesische Medizin e.V. - ECPv6.8.1//NONSGML v1.0//EN
CALSCALE:GREGORIAN
METHOD:PUBLISH
X-ORIGINAL-URL:https://dgtcm.de
X-WR-CALDESC:Events for Deutsche Gesellschaft für Traditionelle Chinesische Medizin e.V.
REFRESH-INTERVAL;VALUE=DURATION:PT1H
X-Robots-Tag:noindex
X-PUBLISHED-TTL:PT1H
BEGIN:VTIMEZONE
TZID:Europe/Berlin
BEGIN:DAYLIGHT
TZOFFSETFROM:+0100
TZOFFSETTO:+0200
TZNAME:CEST
DTSTART:20230326T010000
END:DAYLIGHT
BEGIN:STANDARD
TZOFFSETFROM:+0200
TZOFFSETTO:+0100
TZNAME:CET
DTSTART:20231029T010000
END:STANDARD
END:VTIMEZONE
BEGIN:VEVENT
DTSTART;TZID=Europe/Berlin:20231201T100000
DTEND;TZID=Europe/Berlin:20231201T190000
DTSTAMP:20260422T113110
CREATED:20230809T140902Z
LAST-MODIFIED:20230809T141237Z
UID:654-1701424800-1701457200@dgtcm.de
SUMMARY:Diätetik für Familien - Teil 3
DESCRIPTION:Diätetik 3
URL:https://dgtcm.de/event/diaetetik-fuer-familien-teil-1diaetetik-1/
LOCATION:Gartensaal\, Karlsruher Straße 12\, Heidelberg\, Baden-Württemberg\, 69126\, Deutschland
CATEGORIES:Diätetik
ATTACH;FMTTYPE=image/webp:https://dgtcm.de/wp-content/uploads/2023/08/Depositphotos_70859787_XL.webp
ORGANIZER;CN="Deutsche Gesellschaft f%C3%BCr Traditionelle Chinesische Medizin e.V.":MAILTO:info@dgtcm.de
END:VEVENT
BEGIN:VEVENT
DTSTART;TZID=Europe/Berlin:20231202T100000
DTEND;TZID=Europe/Berlin:20231203T190000
DTSTAMP:20260422T113110
CREATED:20230809T132631Z
LAST-MODIFIED:20230809T143044Z
UID:624-1701511200-1701630000@dgtcm.de
SUMMARY:TCM-Praxiskurs Akupunktur und Arznei
DESCRIPTION:TCM-Praxiskurs Akupunktur und Arznei
URL:https://dgtcm.de/event/live-anamnese-iv-4/
LOCATION:Gartensaal\, Karlsruher Straße 12\, Heidelberg\, Baden-Württemberg\, 69126\, Deutschland
CATEGORIES:Live Anamnese
ATTACH;FMTTYPE=image/webp:https://dgtcm.de/wp-content/uploads/2023/08/Live-Anamnese_001-scaled.webp
ORGANIZER;CN="Deutsche Gesellschaft f%C3%BCr Traditionelle Chinesische Medizin e.V.":MAILTO:info@dgtcm.de
END:VEVENT
BEGIN:VEVENT
DTSTART;TZID=Europe/Berlin:20231202T100000
DTEND;TZID=Europe/Berlin:20231203T190000
DTSTAMP:20260422T113110
CREATED:20230809T135929Z
LAST-MODIFIED:20230809T151021Z
UID:638-1701511200-1701630000@dgtcm.de
SUMMARY:Qigong VI
DESCRIPTION:Qigong VI (Beginn Samstag)
URL:https://dgtcm.de/event/qigong-iv-3/
LOCATION:Gartensaal\, Karlsruher Straße 12\, Heidelberg\, Baden-Württemberg\, 69126\, Deutschland
CATEGORIES:Qi-Gong
ATTACH;FMTTYPE=image/webp:https://dgtcm.de/wp-content/uploads/2023/08/QiGong_004-scaled.webp
ORGANIZER;CN="Deutsche Gesellschaft f%C3%BCr Traditionelle Chinesische Medizin e.V.":MAILTO:info@dgtcm.de
END:VEVENT
BEGIN:VEVENT
DTSTART;TZID=Europe/Berlin:20231202T100000
DTEND;TZID=Europe/Berlin:20231203T190000
DTSTAMP:20260422T113110
CREATED:20230809T141052Z
LAST-MODIFIED:20230809T141138Z
UID:657-1701511200-1701630000@dgtcm.de
SUMMARY:TCM-Praxiskurs Akupunktur und Arznei
DESCRIPTION:TCM-Praxiskurs Akupunktur und Arznei
URL:https://dgtcm.de/event/tcm-praxiskurs-akupunktur-und-arznei/
LOCATION:Gartensaal\, Karlsruher Straße 12\, Heidelberg\, Baden-Württemberg\, 69126\, Deutschland
CATEGORIES:Pharmakologie
ATTACH;FMTTYPE=image/webp:https://dgtcm.de/wp-content/uploads/2023/08/Pharmakologie_003-scaled.webp
ORGANIZER;CN="Deutsche Gesellschaft f%C3%BCr Traditionelle Chinesische Medizin e.V.":MAILTO:info@dgtcm.de
END:VEVENT
BEGIN:VEVENT
DTSTART;TZID=Europe/Berlin:20231208T100000
DTEND;TZID=Europe/Berlin:20231210T190000
DTSTAMP:20260422T113110
CREATED:20230809T134232Z
LAST-MODIFIED:20230809T142552Z
UID:630-1702029600-1702234800@dgtcm.de
SUMMARY:CMT VII
DESCRIPTION:CMT VII Neurologie
URL:https://dgtcm.de/event/live-anamnese-iv-5-3/
LOCATION:Gartensaal\, Karlsruher Straße 12\, Heidelberg\, Baden-Württemberg\, 69126\, Deutschland
CATEGORIES:Chinesische Manuelle Therapie
ATTACH;FMTTYPE=image/webp:https://dgtcm.de/wp-content/uploads/2023/08/Chinesische-Manuelle-Therapie_003-scaled.webp
ORGANIZER;CN="Deutsche Gesellschaft f%C3%BCr Traditionelle Chinesische Medizin e.V.":MAILTO:info@dgtcm.de
END:VEVENT
END:VCALENDAR